BEGIN:VCALENDAR
VERSION:2.0
PRODID:-//DFG Schwerpunktprogramm - Das digitale Bild  - ECPv6.15.20//NONSGML v1.0//EN
CALSCALE:GREGORIAN
METHOD:PUBLISH
X-ORIGINAL-URL:https://www.digitalesbild.gwi.uni-muenchen.de
X-WR-CALDESC:Veranstaltungen für DFG Schwerpunktprogramm - Das digitale Bild 
REFRESH-INTERVAL;VALUE=DURATION:PT1H
X-Robots-Tag:noindex
X-PUBLISHED-TTL:PT1H
BEGIN:VTIMEZONE
TZID:Europe/Berlin
BEGIN:DAYLIGHT
TZOFFSETFROM:+0100
TZOFFSETTO:+0200
TZNAME:CEST
DTSTART:20190331T010000
END:DAYLIGHT
BEGIN:STANDARD
TZOFFSETFROM:+0200
TZOFFSETTO:+0100
TZNAME:CET
DTSTART:20191027T010000
END:STANDARD
BEGIN:DAYLIGHT
TZOFFSETFROM:+0100
TZOFFSETTO:+0200
TZNAME:CEST
DTSTART:20200329T010000
END:DAYLIGHT
BEGIN:STANDARD
TZOFFSETFROM:+0200
TZOFFSETTO:+0100
TZNAME:CET
DTSTART:20201025T010000
END:STANDARD
BEGIN:DAYLIGHT
TZOFFSETFROM:+0100
TZOFFSETTO:+0200
TZNAME:CEST
DTSTART:20210328T010000
END:DAYLIGHT
BEGIN:STANDARD
TZOFFSETFROM:+0200
TZOFFSETTO:+0100
TZNAME:CET
DTSTART:20211031T010000
END:STANDARD
END:VTIMEZONE
BEGIN:VEVENT
DTSTART;TZID=Europe/Berlin:20200629T090000
DTEND;TZID=Europe/Berlin:20201112T092000
DTSTAMP:20260423T081401
CREATED:20200629T114526Z
LAST-MODIFIED:20200629T114526Z
UID:3404-1593421200-1605172800@www.digitalesbild.gwi.uni-muenchen.de
SUMMARY:Qualitative und quantitative Evaluationsmethoden
DESCRIPTION:
URL:https://www.digitalesbild.gwi.uni-muenchen.de/event/qualitative-und-quantitative-evaluationsmethoden/
LOCATION:Qualitative und quantitative Evaluationsmethoden
END:VEVENT
END:VCALENDAR